Workbook
Name Baloons: Sheet6!$E$4:$E$7
Name Invitations: Sheet6!$D$4:$D$7
Name Light_Vendors: 'Lights and Sound'!$A$4:$A$5
Name Lights1: 'Lights and Sound'!$B$4:$B$8
Name Lights2: 'Lights and Sound'!$C$4:$C$6
Name Lootbags: Sheet6!$C$4:$C$6
Name Miscellaneous: Sheet6!$A$4:$A$7
Name Photographer: Photographer!$A$4:$A$7
Name Photographer1: Photographer!$B$4:$B$7
Name Photographer2: Photographer!$C$4:$C$7
Name Photographer3: Photographer!$D$4:$D$7
Name Photographer4: Photographer!$E$4:$E$7
Name Souvenir: Sheet6!$B$4:$B$7
Name Vendor1: Photographer!$C$4:$C$6
Name Vendor1: Backdrop!$C$4:$C$6
Name Vendor2: Photographer!$D$4:$D$7
Name Vendor2: Backdrop!$D$4:$D$7
Name Vendor3: Photographer!$E$4:$E$5
Name Vendor3: Backdrop!$E$4:$E$5
Name Vendors: Photographer!$A$4:$A$7
Name Vendors: Backdrop!$A$4:$A$7
Name YXE: Photographer!$B$4:$B$8
Name YXE: Backdrop!$B$4:$B$8

Sheet Summary
B2: Name
B3: Event Type | I3: 4000 ++ | J3: 3000++ | K3: 2000++ | L3: 1000++
B4: Date | I4: 4000 ++ | J4: 3000++ | K4: 2000++ | L4: 1000++
I5: GuestBook | J5: GuestBook | K5: GuestBook | L5: GuestBook
I6: Printouts | J6: Printouts | K6: Printouts | L6: Printouts
B7: Products Availed | C7: Cost | I7: Facepaint | J7: Facepaint | K7: Facepaint
B8: Backdrop | C8: ='Planning Sheet'!G12 -> 1150 | I8: freebie1 | J8: freebie1
B9: Lights and Sound | C9: ='Planning Sheet'!G22 -> 1500 | I9: freebie2 | J9: freebie2
B10: Photographer | C10: ='Planning Sheet'!G32 -> 1100 | I10: freebie3
B11: Photobooth | C11: ='Planning Sheet'!G42 -> 0 | I11: freebie4
B12: Host | C12: ='Planning Sheet'!G52 -> 0
B13: Entertainment | C13: ='Planning Sheet'!G62 -> 0
B14: Miscellaneous | C14: ='Planning Sheet'!G73 -> 130
B17: SubTotal | C17: =SUM(C8:C14) -> 3880
B18: Tax | C18: =C17*0.06 -> 232.8
B20: Total | C20: =SUM(C17:C18) -> 4112.8
B24: Freebie | C24: freebie1

Sheet Planning Sheet
D4: Backdrop
D5: Vendor | E5: Package | F5: Details | G5: Price
D6: YXE | E6: Option 4 | F6: =VLOOKUP(E6,Backdrop!G:I,2,0) -> Item 1 | G6: =VLOOKUP(E6,Backdrop!G:I,3,0) -> 800
D8: Add ons | E8: Price
D9: Addon 3 | E9: =IFERROR(VLOOKUP(D9,Backdrop!K:L,2,0),"") -> 100
D10: Addon 1 | E10: =IFERROR(VLOOKUP(D10,Backdrop!K:L,2,0),"") -> 200
D11: Addon 4 | E11: =IFERROR(VLOOKUP(D11,Backdrop!K:L,2,0),"") -> 50
E12: =IFERROR(VLOOKUP(D12,Backdrop!K:L,2,0),"") | F12: Total Price | G12: =SUM(G6,E9:E12) -> 1150
D14: Lights and Sound
D15: Vendor | E15: Package | F15: Details | G15: Price
D16: Lights2 | E16: Option 1 | F16: =VLOOKUP(E16,'Lights and Sound'!E:G,2,0) -> Item 1, Item 2, Item 3, Item 4 | G16: =VLOOKUP(E16,'Lights and Sound'!E:G,3,0) -> 1500
D18: Add ons | E18: Price
E19: =IFERROR(VLOOKUP(D19,Backdrop!K:L,2,0),"")
E20: =IFERROR(VLOOKUP(D20,Backdrop!K:L,2,0),"")
E21: =IFERROR(VLOOKUP(D21,Backdrop!K:L,2,0),"")
E22: =IFERROR(VLOOKUP(D22,Backdrop!K:L,2,0),"") | F22: Total Price | G22: =SUM(G16,E19:E22) -> 1500
D24: Photographer
D25: Vendor | E25: Package | F25: Details | G25: Price
D26: Photographer1 | E26: 2 Photo | F26: =VLOOKUP(E26,Photographer!G:I,2,0) -> 2 Photo | G26: =VLOOKUP(E26,Photographer!G:I,3,0) -> 1000
D28: Add ons | E28: Price
D29: Addon 3 | E29: =IFERROR(VLOOKUP(D29,Backdrop!K:L,2,0),"") -> 100
E30: =IFERROR(VLOOKUP(D30,Backdrop!K:L,2,0),"")
E31: =IFERROR(VLOOKUP(D31,Backdrop!K:L,2,0),"")
E32: =IFERROR(VLOOKUP(D32,Backdrop!K:L,2,0),"") | F32: Total Price | G32: =SUM(G26,E29:E32) -> 1100
D34: Photobooth
D35: Vendor | E35: Package | F35: Details | G35: Price
D38: Add ons | E38: Price
E39: =IFERROR(VLOOKUP(D39,Backdrop!K:L,2,0),"")
E40: =IFERROR(VLOOKUP(D40,Backdrop!K:L,2,0),"")
E41: =IFERROR(VLOOKUP(D41,Backdrop!K:L,2,0),"")
E42: =IFERROR(VLOOKUP(D42,Backdrop!K:L,2,0),"") | F42: Total Price | G42: =SUM(G36,E39:E42) -> 0
D44: Host
D45: Vendor | E45: Package | F45: Details | G45: Price
D48: Add ons | E48: Price
E49: =IFERROR(VLOOKUP(D49,Backdrop!K:L,2,0),"")
E50: =IFERROR(VLOOKUP(D50,Backdrop!K:L,2,0),"")
E51: =IFERROR(VLOOKUP(D51,Backdrop!K:L,2,0),"")
E52: =IFERROR(VLOOKUP(D52,Backdrop!K:L,2,0),"") | F52: Total Price | G52: =SUM(G46,E49:E52) -> 0
D54: Entertainment
D55: Vendor | E55: Package | F55: Details | G55: Price
...

Sheet Backdrop
A3: Vendors | B3: YXE | C3: Vendor1 | D3: Vendor2 | E3: Vendor3 | G3: YXE | H3: Details | I3: Price | K3: Addons | L3: Price
A4: YXE | B4: Option 1 | C4: Option 1 | D4: Option 1 | E4: Option 1 | G4: Option 1 | H4: Item 1, Item 2, Item 3, Item 4 | I4: 1500 | K4: Addon 1 | L4: 200
A5: Vendor1 | B5: Option 2 | C5: Option 2 | D5: Option 2 | E5: Option 2 | G5: Option 2 | H5: Item 1, Item 2, Item 3 | I5: 1200 | K5: Addon 2 | L5: 150
A6: Vendor2 | B6: Option 3 | C6: Option 3 | D6: Option 3 | G6: Option 3 | H6: Item 1, Item 2 | I6: 1000 | K6: Addon 3 | L6: 100
A7: Vendor3 | B7: Option 4 | D7: Option 4 | G7: Option 4 | H7: Item 1 | I7: 800 | K7: Addon 4 | L7: 50
B8: Option 5 | G8: Option 5 | H8: No Item | I8: 500

Sheet Lights and Sound
A3: Light_Vendors | B3: Lights1 | C3: Lights2 | E3: Lights1 | F3: Details | G3: Price
A4: Lights1 | B4: Option 1 | C4: Option 1 | E4: Option 1 | F4: Item 1, Item 2, Item 3, Item 4 | G4: 1500
A5: Lights2 | B5: Option 2 | C5: Option 2 | E5: Option 2 | F5: Item 1, Item 2, Item 3 | G5: 1200
B6: Option 3 | C6: Option 3 | E6: Option 3 | F6: Item 1, Item 2 | G6: 1000
B7: Option 4 | E7: Option 4 | F7: Item 1 | G7: 800
B8: Option 5 | E8: Option 5 | F8: No Item | G8: 500

Sheet Photographer
A3: Photographer | B3: Photographer1 | C3: Photographer2 | D3: Photographer3 | E3: Photographer4 | G3: Photographer | H3: Details | I3: Price
A4: Photographer1 | B4: 2 Photo ,1 video, SDE | C4: 2 Photo ,1 video, SDE | D4: 2 Photo ,1 video, SDE | E4: 2 Photo ,1 video, SDE | G4: 2 Photo ,1 video, SDE | H4: 2 Photo ,1 video, SDE | I4: 1500
A5: Photographer2 | B5: 1 Photo, 1 Video, 1 SDE | C5: 1 Photo, 1 Video, 1 SDE | D5: 1 Photo, 1 Video, 1 SDE | E5: 1 Photo, 1 Video, 1 SDE | G5: 1 Photo, 1 Video, 1 SDE | H5: 1 Photo, 1 Video, 1 SDE | I5: 1200
A6: Photographer3 | B6: 2 Photo | C6: 2 Photo | D6: 2 Photo | E6: 2 Photo | G6: 2 Photo | H6: 2 Photo | I6: 1000
A7: Photographer4 | B7: Video and SDE | C7: Video and SDE | D7: Video and SDE | E7: Video and SDE | G7: Video and SDE | H7: Video and SDE | I7: 800

Sheet Sheet6
A3: Miscellaneous | B3: Souvenir | C3: Lootbags | D3: Invitations | E3: Baloons
A4: Souvenir | B4: Shot Glass | C4: Candies | D4: Type 1 | E4: 50pcs Layout
A5: Lootbags | B5: Picture | C5: Chocolates and Candies | D5: Type 2 | E5: 5 big balloons layout
A6: Invitations | B6: Mug | C6: Toys | D6: Type 3 | E6: Balloon Tower
A7: Baloons | B7: Keychain | D7: Type 4 | E7: Character Balloons
